BEGIN:VCALENDAR
VERSION:2.0
PRODID:-//Redzynn Global - ECPv6.3.3.1//NONSGML v1.0//EN
CALSCALE:GREGORIAN
METHOD:PUBLISH
X-ORIGINAL-URL:https://redzynn.com
X-WR-CALDESC:Events for Redzynn Global
REFRESH-INTERVAL;VALUE=DURATION:PT1H
X-Robots-Tag:noindex
X-PUBLISHED-TTL:PT1H
BEGIN:VTIMEZONE
TZID:UTC
BEGIN:STANDARD
TZOFFSETFROM:+0000
TZOFFSETTO:+0000
TZNAME:UTC
DTSTART:20240101T000000
END:STANDARD
END:VTIMEZONE
BEGIN:VEVENT
DTSTART;VALUE=DATE:20240326
DTEND;VALUE=DATE:20240330
DTSTAMP:20260425T144351
CREATED:20240305T130806Z
LAST-MODIFIED:20240314T113052Z
UID:10000005-1711411200-1711756799@redzynn.com
SUMMARY:TIRES\, RUBBERS AND RUBBERS-2024
DESCRIPTION:TIRES\, RUBBERS AND RUBBERS-2024\n		\n				\n				\n				\n			26th international specialized exhibition of rubber products\, tires\, technologies for their production\, raw materials and equipment		\n				\n				\n				\n			APRIL 15—18\, 2024\n		\n				\n					\n				\n				\n		\n		\n		\n				\n				\n					\n						\n				\n								\n			\n						\n				\n					\n						Date 01					\n				\n									\n						April 15—17\, 2024\nfrom 10:00 to 18:00					 \n							\n		\n				\n				\n				\n		\n				\n				\n					\n						\n				\n								\n			\n						\n				\n					\n						Date 02					\n				\n									\n						April 18\, 2024\nfrom 10:00 to 16:00					 \n							\n		\n				\n				\n				\n		\n				\n				\n					\n						\n				\n								\n			\n						\n				\n					\n						Installation:					\n				\n									\n						April 12—14\, 2024					 \n							\n		\n				\n				\n				\n		\n				\n				\n					\n						\n				\n								\n			\n						\n				\n					\n						Dismantling:					\n				\n									\n						April 19\, 2024					 \n							\n		\n				\n				\n				\n				\n				\n		\n					\n				\n				\n					\n			\n									About Exhibition\n									Theme of the event\n							\n			\n									About Exhibition\n					\n									Theme of the event\n					1. Raw materials\, auxiliary materials\, intermediate products\n\n 	1.1. Natural and synthetic rubbers;\n 	1.2. Elastomeric materials\, thermoplastic elastomers\, composite materials;\n 	1.3. Latexes\, silicones;\n 	1.4. Additives (carbon black\, vulcanizing agents\, oils\, plasticizers\, fillers\, dyes\, pigments\, stabilizers\, compounds and other chemical additives);\n 	1.5. Chemical fibers and threads\, technical textiles;\n 	1.6. Synthetic and metal cord and other materials;\n 	1.7. Other raw materials and auxiliary materials.\n\n\n2. Equipment and instruments\n\n 	2.1. Equipment for the production of rubber\, rubber compounds\, technical rubber products\, tires\, products from recycled and recycled materials;\n 	2.2. Equipment for refurbishment\, processing and disposal of worn tires;\n 	2.3. For quality control and testing of tires;\n 	2.4. Rubber mixers;\n 	2.5. Casting and vulcanization equipment;\n 	2.6. Press forms;\n 	2.7. Testing equipment and devices;\n 	2.8. Tire fitting equipment;\n 	2.9. Equipment and instruments for the production of cameras;\n 	2.10. Other types of equipment.\n\n3. Finished products\n\n 	3.1. Rubber products for general and special purposes;\n\n 	For the automotive industry\, mechanical engineering\, electrical engineering\, energy\, construction\, oil and gas\, chemical and other industries;\n 	Formed rubber goods\, non-formed rubber goods;\n 	Conveyor and transport belts; cables; rubber fabrics; rubberized\, metallized\, rubber-fabric sleeves; drive belts\, fan belts;\n 	Roofing rubber materials\, rubber-plastic materials\, hard rubber products;\n 	Anti-corrosion lining materials and coatings\, seals\, sealants\, adhesives;\n 	Emergency rescue and protective equipment made from rubber;\n 	and other rubber products.\n\n\n 	3.2. Tires for all types of wheeled vehicles\, tubes;\n\n 	Car tires;\n 	Agricultural tires;\n 	Aviation tires;\n 	Industrial tires;\n 	Tire tubes;\n 	and other types of tires.\n\n\n 	3.3. Products made from recycled and recycled materials.\n\n4. Container\, packaging and storage\n5. Innovation and scientific developments\n\n 	5.1. New in the field of raw materials for the production of tires and rubber goods;\n 	5.2. New technologies;\n 	5.3. Investment projects for the tire and rubber industry.\n\n6. Environmental protection\, ecology\n\n 	6.1. Recycling of tire and rubber industry waste;\n 	6.2. Low-waste and non-waste technologies;\n 	6.3. Instruments and means of monitoring environmental safety.\n\n7. Contract manufacturing\n8. Services\n\n 	8.1. Engineering\, production automation;\n 	8.2. Design and construction of tire and rubber industry enterprises;\n 	8.3. Software;\n 	8.4. Leasing;\n 	8.5. Consulting;\n 	8.6. Certification and standardization;\n 	8.7. Education in the industry;\n 	8.8. Transportation and storage;\n 	8.9. Information support (scientific and technical literature\, information publications\, portals\, databases\, etc.).
URL:https://redzynn.com/event/tires-rubbers-and-rubbers-2024/
LOCATION:Expocentr\, Moscow\, Krasnopresnenskaya nab.\, 14\, 123100\, Russia.
ORGANIZER;CN="Redzynn Global":MAILTO:info@redzynn.com
END:VEVENT
BEGIN:VEVENT
DTSTART;VALUE=DATE:20240326
DTEND;VALUE=DATE:20240330
DTSTAMP:20260425T144351
CREATED:20240305T125050Z
LAST-MODIFIED:20240314T113116Z
UID:10000004-1711411200-1711756799@redzynn.com
SUMMARY:NEFTEGAZ-2024
DESCRIPTION:NEFTEGAZ-2024\n		\n				\n				\n				\n			23rd international exhibition “Equipment and technologies for the oil and gas complex		\n				\n				\n				\n			APRIL 15—18\, 2024\n		\n				\n					\n				\n				\n		\n		\n		\n				\n				\n					\n						\n				\n								\n			\n						\n				\n					\n						Date 01					\n				\n									\n						April 15—17\, 2024\nfrom 10:00 to 18:00					 \n							\n		\n				\n				\n				\n		\n				\n				\n					\n						\n				\n								\n			\n						\n				\n					\n						Date 02					\n				\n									\n						April 18\, 2024\nfrom 10:00 to 16:00					 \n							\n		\n				\n				\n				\n		\n				\n				\n					\n						\n				\n								\n			\n						\n				\n					\n						Installation:					\n				\n									\n						April 10 — 14\, 2024					 \n							\n		\n				\n				\n				\n		\n				\n				\n					\n						\n				\n								\n			\n						\n				\n					\n						Dismantling:					\n				\n									\n						April 19-20\, 2024					 \n							\n		\n				\n				\n				\n				\n				\n		\n					\n				\n				\n					\n			\n									About Exhibition\n									Theme of the event\n							\n			\n									About Exhibition\n					Conducted since 1978. “Neftegaz” is a world-famous exhibition brand\, recognized as the largest oil and gas exhibition in Russia and one of the ten largest oil and gas exhibitions in the world. \n									Theme of the event\n					Geological and geophysical research. Search and exploration of oil and gas fields\, comprehensive assessment of oil and gas-bearing territories and local objects\, calculation of reservesConstruction of oil and gas wells on land and offshore. Drilling horizontal wells. Equipment and technologiesDevelopment and operation of oil and gas fields. Methods of influencing the reservoir in order to increase oil recovery. Equipment and technologiesOil and gas collection and preparationTransport and storage of oil\, gas and petroleum products\, equipment and technology for the construction and operation of pipelines. Reservoirs and tank farmsPumps\, compressor equipment\, pneumatics\, drives\, engines used in the oil and gas complexShut-off and control valvesPipe productsOil and gas refining and petrochemistry. Equipment and technologiesConstruction of oil and gas complex facilities\, including construction of offshore structures. Construction equipmentPower and electrical equipment for the oil and gas complex. Cable production. welding equipmentChemical reagents\, additives and materials for the oil and gas production\, oil refining industry and transportation of oil and petroleum productsAutomated control systems and telemechanization of drilling\, production\, collection\, transportation\, storage and processing of oil and gas processes. Instrumentation. Metrological support toolsProtection of equipment and pipelines from corrosion. Corrosion inhibitors. Installations and insulating materialsEcology: scientific developments\, technologies\, equipment\, instrumentation. Modern environmental monitoring systems. Disposal and recycling of industrial wasteOccupational health\, safety systems and fire-fighting equipmentLaboratory equipment and analytical instruments\, furniture. Mobile laboratoriesMobile industrial and domestic buildingsSupply and marketing of oil\, gas and petroleum products. gas stationEconomic research and analysis of the development of the oil and gas complex. Management of the complex in new conditions\, issues of legal and financial regulationResearch and design developments. Project examinationRussian innovative developmentsInformation and softwareScientific and technical literature
URL:https://redzynn.com/event/neftegaz-2024/
LOCATION:Expocentr\, Moscow\, Krasnopresnenskaya nab.\, 14\, 123100\, Russia.
ORGANIZER;CN="Redzynn Global":MAILTO:info@redzynn.com
END:VEVENT
BEGIN:VEVENT
DTSTART;VALUE=DATE:20240326
DTEND;VALUE=DATE:20240330
DTSTAMP:20260425T144351
CREATED:20240305T122250Z
LAST-MODIFIED:20240314T113134Z
UID:10000003-1711411200-1711756799@redzynn.com
SUMMARY:PHOTONICS. WORLD OF LASERS AND OPTICS-2024
DESCRIPTION:PHOTONICS. WORLD OF LASERS AND OPTICS-2024		\n				\n				\n				\n			18th international specialized exhibition of laser\, optical and optoelectronic technology		\n				\n				\n				\n			MARCH 26—29\, 2024		\n				\n					\n				\n				\n		\n		\n		\n				\n				\n					\n						\n				\n								\n			\n						\n				\n					\n						Date 01					\n				\n									\n						March 26—28\, 2024\nfrom 10:00 to 18:00					 \n							\n		\n				\n				\n				\n		\n				\n				\n					\n						\n				\n								\n			\n						\n				\n					\n						Date 02					\n				\n									\n						March 29\, 2024\nfrom 10:00 to 16:00					 \n							\n		\n				\n				\n				\n		\n				\n				\n					\n						\n				\n								\n			\n						\n				\n					\n						Installation:					\n				\n									\n						March 23—25\, 2024					 \n							\n		\n				\n				\n				\n		\n				\n				\n					\n						\n				\n								\n			\n						\n				\n					\n						Dismantling:					\n				\n									\n						March 30\, 2024\n					 \n							\n		\n				\n				\n				\n				\n				\n		\n					\n				\n				\n					\n			\n									About Exhibition\n									Theme of the event\n							\n			\n									About Exhibition\n					Conducted since 2006. The most visited industry event in Russia\, “Photonics. The World of Lasers and Optics” has established itself as a vibrant showcase of innovations\, the main industry forum in Russia\, the CIS and Eastern Europe\, demonstrating the latest trends in the laser-optical technology market. \n									Theme of the event\n					Laser radiation sources and componentsOptical materials\, technologies for their processingOptical elements\, components and systemsFiber optic technologyLaser equipment for cutting\, welding\, marking and other materials processing technologiesLaser-optical instrumentationTechnical vision equipment\, sensors\, detectorsNight vision devices\, optical and laser sightsOptoelectronics\, nanophotonicsOptical systems for recording\, storing\, processing and transmitting informationBiomedical equipment based on photonic technologiesLaser medicinePhotoelectronics\, solar energyDisplays\, equipment for light showsLEDs\, lighting technology\, lighting and illumination systemsHolographic equipment and materialsLaser technologies in advertising\, souvenir productionLaser-optical equipment for securityApparatus and equipment for scientific researchLaser-optical equipment serviceInnovation centers\, technology transfer centersPersonnel training\, information support.
URL:https://redzynn.com/event/photonics-world-of-lasers-and-optics-2024/
LOCATION:Expocentr\, Moscow\, Krasnopresnenskaya nab.\, 14\, 123100\, Russia.
ORGANIZER;CN="Redzynn Global":MAILTO:info@redzynn.com
END:VEVENT
BEGIN:VEVENT
DTSTART;VALUE=DATE:20240319
DTEND;VALUE=DATE:20240322
DTSTAMP:20260425T144351
CREATED:20240224T080937Z
LAST-MODIFIED:20240314T113152Z
UID:10000002-1710806400-1711065599@redzynn.com
SUMMARY:Cabex 2024
DESCRIPTION:Cabex 2024		\n				\n				\n				\n			22nd International Exhibition of Cable and Wire Products\, Equipment and Materials for their Production		\n				\n				\n				\n			MARCH 19—21\, 2024		\n				\n					\n				\n				\n		\n		\n		\n				\n				\n					\n						\n				\n								\n			\n						\n				\n					\n						Date 01					\n				\n									\n						March 19—20\, 2024\nfrom 10:00 to 18:00					 \n							\n		\n				\n				\n				\n		\n				\n				\n					\n						\n				\n								\n			\n						\n				\n					\n						Date 02					\n				\n									\n						March 21\, 2024\nfrom 10:00 to 16:00					 \n							\n		\n				\n				\n				\n		\n				\n				\n					\n						\n				\n								\n			\n						\n				\n					\n						Installation:					\n				\n									\n						March 16—18\, 2024					 \n							\n		\n				\n				\n				\n		\n				\n				\n					\n						\n				\n								\n			\n						\n				\n					\n						Dismantling:					\n				\n									\n						March 22\, 2024					 \n							\n		\n				\n				\n				\n				\n				\n		\n					\n				\n				\n					\n			\n									About Exhibition\n									Theme of the event\n									Exhibition participants\n									In a programme\n							\n			\n									About Exhibition\n					Every year\, more than 100 manufacturers and suppliers demonstrate to specialists at the Cabex exhibition a wide selection of cables\, wires\, cable accessories\, electrical and electrical products\, tools and equipment for cable installation\, equipment and materials for the production of cable and wire products. \n									Theme of the event\n					Cables and wiresElectrical installation products\, cable fittingsElectrical productsEquipment for installation and processing of cablesMaterials for cable production\n									Exhibition participants\n					Leading cable market leaders\, cable manufacturers and suppliers\, manufacturers and suppliers of wires and accessories for: energyelectrical engineeringcommunications and telecommunicationsoil and gas and mining industrymechanical engineering and shipbuildingRussian Railways infrastructure and constructionAmong the exhibitors: AKRON HOLDING\, GOSTKABEL\, Kaluga Cable Plant\, Kama Cable\, KAMKAT\, Lyudinovokabel\, Makeevka Cable Plant\, MosVtorMet\, United Energy Company\, OKB KP\, Paritet\, Arkasil\, Saranskkabel-Optika\, Spetskabel\, TOMSKKABEL\, UNKOMTECH\, TSVETLIT\, Elinar\, EM-CABLE\, Energokabel Plant\, SPKB Techno\, Cable Alliance Holding\, SARKUYSAN\, KABMAK\, Nordia\, TDM ELECTRIC\, KavkazKabel\, Fund Service and many Russian and foreign companies. \n									In a programme\n					Of particular interest to specialist visitors is the business program of the exhibition\, which for 3 days becomes a platform for the exchange of expert opinions and discussion of the domestic cable industry. The events cover a wide range of current issues: directions for further development of the Russian cable market\, advanced technologies for the production of cable and wire products\, experience in the use of cables and wires in key sectors of the Russian economy\, and much more. The Cabex exhibition provides visitors with the opportunity to meet on one site a wide selection of cable and wire products\, materials and equipment for the production of gearboxes\, establish personal contact\, receive professional advice\, conduct a comparative assessment and make the right choice.
URL:https://redzynn.com/event/2-russian-construction-week/
LOCATION:Expocentr\, Moscow\, Krasnopresnenskaya nab.\, 14\, 123100\, Russia.
ORGANIZER;CN="Redzynn Global":MAILTO:info@redzynn.com
END:VEVENT
END:VCALENDAR