BEGIN:VCALENDAR
VERSION:2.0
PRODID:-//Redzynn Global - ECPv6.3.3.1//NONSGML v1.0//EN
CALSCALE:GREGORIAN
METHOD:PUBLISH
X-WR-CALNAME:Redzynn Global
X-ORIGINAL-URL:https://redzynn.com
X-WR-CALDESC:Events for Redzynn Global
REFRESH-INTERVAL;VALUE=DURATION:PT1H
X-Robots-Tag:noindex
X-PUBLISHED-TTL:PT1H
BEGIN:VTIMEZONE
TZID:UTC
BEGIN:STANDARD
TZOFFSETFROM:+0000
TZOFFSETTO:+0000
TZNAME:UTC
DTSTART:20250101T000000
END:STANDARD
END:VTIMEZONE
BEGIN:VEVENT
DTSTART;VALUE=DATE:20250422
DTEND;VALUE=DATE:20250426
DTSTAMP:20260426T034903
CREATED:20250406T160408Z
LAST-MODIFIED:20250406T160408Z
UID:10000044-1745280000-1745625599@redzynn.com
SUMMARY:RWHT 2025
DESCRIPTION:RWHT 2025		\n				\n				\n				\n			Russian Week of High Technologies		\n				\n				\n				\n			April 22-25\, 2025		\n				\n				\n				\n			 Expocentre Fairgrounds\, Moscow\, Russia 		\n				\n					\n				\n				\n		\n		\n		\n				\n				\n					\n						\n				\n								\n			\n						\n				\n					\n						30+ 					\n				\n									\n						events					 \n							\n		\n				\n				\n				\n		\n				\n				\n					\n						\n				\n								\n			\n						\n				\n					\n						200+					\n				\n									\n						Speakers					 \n							\n		\n				\n				\n				\n		\n				\n				\n					\n						\n				\n								\n			\n						\n				\n					\n						3000+ 					\n				\n									\n						Delegates					 \n							\n		\n				\n				\n				\n				\n				\n		\n					\n				\n				\n					\n			\n									About Exhibition\n									Product sectors\n							\n			\n									About Exhibition\n					The Russian Week of High Technologies brings together several trade shows\, forums and conferences on IT\, telecommunications\, navigation and telematics. Russia’s largest business networking platform for industry players to find suppliers\, generate sales leads\, create new solutions and identify development trends in IT and telecom sectors. \n									Product sectors\n					Product sectorsSmart cityIoT: digital futureTelecom equipment\, technology\, solutions and servicesData networksTelecom and network infrastructureSatellite communicationRadio communicationMobile communicationCommunication cables\, equipmentUnified communicationsData centers. Equipment\, software\, solutions and servicesPower supply systemsConsumer electronicsSoftware. Russian softwareIP technologyTV and radio broadcastingAR&VRArtificial IntelligenceIT servicesMobile paymentsInternet based technologies and servicesStartupsWork and career in telecom and IT industryGovernment initiatives and industry supportTransport monitoring systemsERA-GLONASS+. Products and servicesConnected CarUnmanned transport: systems and solutionsIntelligent GISPersonal navigators\, trackers\, appsIntelligent city mobility. AutonetCybersecurity in transport telematicsDronesHigh precision satellite navigation: industry solutionsIndoor navigationNew mail. Modern technologies of postal and courier communication
URL:https://redzynn.com/event/rwht-2025/
LOCATION:Expocentr\, Moscow\, Krasnopresnenskaya nab.\, 14\, 123100\, Russia.
ORGANIZER;CN="Redzynn Global":MAILTO:info@redzynn.com
END:VEVENT
BEGIN:VEVENT
DTSTART;VALUE=DATE:20250422
DTEND;VALUE=DATE:20250426
DTSTAMP:20260426T034903
CREATED:20250406T161514Z
LAST-MODIFIED:20250406T161514Z
UID:10000045-1745280000-1745625599@redzynn.com
SUMMARY:SVIAZ 2025
DESCRIPTION:SVIAZ 2025		\n				\n				\n				\n			37th International Exhibition for Information and Communication Technology		\n				\n				\n				\n			April 22-25\, 2025		\n				\n				\n				\n			 Expocentre Fairgrounds\, Moscow\, Russia 		\n				\n					\n				\n				\n		\n		\n		\n				\n				\n					\n						\n				\n								\n			\n						\n				\n					\n						690					\n				\n									\n						companies					 \n							\n		\n				\n				\n				\n		\n				\n				\n					\n						\n				\n								\n			\n						\n				\n					\n						14000+					\n				\n									\n						visitors					 \n							\n		\n				\n				\n				\n		\n				\n				\n					\n						\n				\n								\n			\n						\n				\n					\n						30+					\n				\n									\n						supporting events					 \n							\n		\n				\n				\n				\n		\n				\n				\n					\n						\n				\n								\n			\n						\n				\n					\n						3000+ delegates					\n				\n									\n						200+ speakers					 \n							\n		\n				\n				\n				\n				\n				\n		\n					\n				\n				\n					\n			\n									About\n									Themes & Trends\n							\n			\n									About\n					Sviaz: The Year’s Top Event for Information and Communications IndustryRussia’s largest business networking platform for industry players to find suppliers\, generate sales leads\, create new solutions and identify development trends in IT and telecom sectors. Sviaz was launched in 1975 to become the largest event in Russia and Eastern Europe devoted to telecommunications and information technologies. Sviaz is a part of Russian Week of High Technologies\, which brings together several exhibitions\, forums and conferences on information technologies\, telecommunications\, navigation and telematics. Russian Week of High Technologies is a cross-industry platform for the creation and development of the digital economy infrastructure in Russia. \n									Themes & Trends\n					Digital environment and innovationsDigital ecosystemsSystem integrationCybersecurityIoT: Digital Future5GTelecommunications equipment\, technology\, solutions and servicesData networksTelecommunications and network infrastructureSatellite communicationRadio communicationMobile communicationAntenna mast structures and towers\, telecommunication wellsAntenna feeder devicesFiber optic cables\, systemsData Centers. Equipment\, software\, solutions and servicesPower supply systemsSmart Device ShowSoftwareIP TechnologyElectronic components for telecommunications Navigation systems\, technologies and servicesArtificial IntelligenceTV and radio broadcastingAR&VRIT servicesInternet Based Technologies and ServicesStartupsWork and career in the telecommunications and IT industryAdvanced Technology for Postal and Courier Services
URL:https://redzynn.com/event/sviaz-2025/
LOCATION:Expocentr\, Moscow\, Krasnopresnenskaya nab.\, 14\, 123100\, Russia.
ORGANIZER;CN="Redzynn Global":MAILTO:info@redzynn.com
END:VEVENT
BEGIN:VEVENT
DTSTART;VALUE=DATE:20250422
DTEND;VALUE=DATE:20250426
DTSTAMP:20260426T034903
CREATED:20250406T162310Z
LAST-MODIFIED:20250406T162310Z
UID:10000046-1745280000-1745625599@redzynn.com
SUMMARY:NAVITECH 2025
DESCRIPTION:NAVITECH 2025		\n				\n				\n				\n			Display of navigation systems\, technologies and services		\n				\n				\n				\n			April 22-25\, 2025		\n				\n				\n				\n			 Expocentre Fairgrounds\, Moscow\, Russia.		\n				\n					\n				\n				\n		\n					\n				\n				\n					\n			\n									About\n									Themes & Trends\n							\n			\n									About\n					Navitech is an event for professionals in the field of geodata\, transport and insurance telematics\, connected and highly automated vehicles\, geo and transport information systems\, intelligent urban mobility\, and high-precision satellite navigation. Every year Navitech welcomes hardware manufacturers\, developers of software\, telematics platforms and mapping applications\, leading telematics integrators\, and major end users. Manufacturers and suppliers strengthen ties with existing customers and find new ones\, receive live feedback on their products\, demonstrate new products\, and tell about their plans for the future. End users\, integrators and investors have an opportunity to find the right vendors and suppliers\, get face-to-face advice on issues of interest\, and agree on the development of cooperation with top executives of exhibiting companies.Navitech traditionally features the International Navigation Forum\, which is Russia’s largest business event for navigation and telematics professionals. The forum participants discuss the results of the industry’s development over the past year. Leading experts present reports on technology development\, ministries and agencies reveal current and planned government programmes\, and executives from key companies share their experience and talk about their current practices and development plans. It is Navitech and the International Navigation Forum that boosted the development of the GLONASS global navigation satellite system and the ERA-GLONASS accident emergency response system. The satellite navigation market is growing. At this stage\, the next big projects on display at Navitech and the International Navigation Forum are the Avtodata service telematics platform and the Sfera programme for the development of space information technologies. \n									Themes & Trends\n					Unmanned\, highly automated and connected vehiclesSmart roadsSmart citiesTransport telematicsSpace technologies
URL:https://redzynn.com/event/navitech-2025/
LOCATION:Expocentr\, Moscow\, Krasnopresnenskaya nab.\, 14\, 123100\, Russia.
ORGANIZER;CN="Redzynn Global":MAILTO:info@redzynn.com
END:VEVENT
END:VCALENDAR