BEGIN:VCALENDAR
VERSION:2.0
PRODID:-//Redzynn Global - ECPv6.3.3.1//NONSGML v1.0//EN
CALSCALE:GREGORIAN
METHOD:PUBLISH
X-ORIGINAL-URL:https://redzynn.com
X-WR-CALDESC:Events for Redzynn Global
REFRESH-INTERVAL;VALUE=DURATION:PT1H
X-Robots-Tag:noindex
X-PUBLISHED-TTL:PT1H
BEGIN:VTIMEZONE
TZID:UTC
BEGIN:STANDARD
TZOFFSETFROM:+0000
TZOFFSETTO:+0000
TZNAME:UTC
DTSTART:20250101T000000
END:STANDARD
END:VTIMEZONE
BEGIN:VEVENT
DTSTART;VALUE=DATE:20250414
DTEND;VALUE=DATE:20250418
DTSTAMP:20260426T035016
CREATED:20250406T132534Z
LAST-MODIFIED:20250406T132534Z
UID:10000042-1744588800-1744934399@redzynn.com
SUMMARY:TIRES & RUBBER 2025
DESCRIPTION:TIRES & RUBBER 2025		\n				\n				\n				\n			27th International Exhibition for Rubber Goods\, Tires\, their Production\, Raw Materials and Equipment\n		\n				\n				\n				\n			April 14-17\, 2025		\n				\n				\n				\n			 Expocentre Fairgrounds\, Moscow\, Russia 		\n				\n					\n				\n				\n		\n		\n		\n				\n				\n					\n						\n				\n								\n			\n						\n				\n					\n						25 years					\n				\n									\n						of history\n					 \n							\n		\n				\n				\n				\n		\n				\n				\n					\n						\n				\n								\n			\n						\n				\n					\n						10\,000+					\n				\n									\n						visitors					 \n							\n		\n				\n				\n				\n		\n				\n				\n					\n						\n				\n								\n			\n						\n				\n					\n						12\,674 sq m					\n				\n									\n						of floor space					 \n							\n		\n				\n				\n				\n		\n				\n				\n					\n						\n				\n								\n			\n						\n				\n					\n						302 exhibitors					\n				\n									\n						from 6 countries					 \n							\n		\n				\n				\n				\n				\n				\n		\n					\n				\n				\n					\n			\n									About Exhibition\n							\n			\n									About Exhibition\n					TIRES&RUBBER exhibition – Russia’s key trade show for equipment and technologies for production of rubber goods\, tires\, tire retreading and recycling. TIRES&RUBBER exhibition: Achieving maximum business value spending minimum time.
URL:https://redzynn.com/event/tires-rubber-2025/
LOCATION:Expocentr\, Moscow\, Krasnopresnenskaya nab.\, 14\, 123100\, Russia.
ORGANIZER;CN="Redzynn Global":MAILTO:info@redzynn.com
END:VEVENT
BEGIN:VEVENT
DTSTART;VALUE=DATE:20250414
DTEND;VALUE=DATE:20250418
DTSTAMP:20260426T035016
CREATED:20250406T152453Z
LAST-MODIFIED:20250406T152453Z
UID:10000041-1744588800-1744934399@redzynn.com
SUMMARY:NEFTEGAZ 2025
DESCRIPTION:NEFTEGAZ 2025		\n				\n				\n				\n			24 International Exhibition for Equipment and Technologies for Oil and Gas Industries		\n				\n				\n				\n			April 14-17\, 2025		\n				\n				\n				\n			 Expocentre Fairgrounds\, Moscow\, Russia 		\n				\n					\n				\n				\n		\n		\n		\n				\n				\n					\n						\n				\n								\n			\n						\n				\n					\n						1978					\n				\n									\n						45 years history					 \n							\n		\n				\n				\n				\n		\n				\n				\n					\n						\n				\n								\n			\n						\n				\n					\n						35\,942					\n				\n									\n						visits					 \n							\n		\n				\n				\n				\n		\n				\n				\n					\n						\n				\n								\n			\n						\n				\n					\n						60\,000 sq.m					\n				\n									\n						of floor space					 \n							\n		\n				\n				\n				\n		\n				\n				\n					\n						\n				\n								\n			\n						\n				\n					\n						1020 exhibitors					\n				\n									\n						from 12 countries					 \n							\n		\n				\n				\n				\n				\n				\n		\n					\n				\n				\n					\n			\n									About Exhibition\n									Main Product Sectors\n									Full Thematic Sectors\n							\n			\n									About Exhibition\n					Neftegaz and National Oil and Gas Forum the major event of the fuel and energy sector. The exhibition and forum bring together the whole industry to show all new products and trends. It is a meeting point for manufacturers and consumers to network\, find the latest information\, and attend the most important associated events. \n									Main Product Sectors\n					Oil and gas explorationOil and gas field developmentEquipment and technology for offshore field developmentCollection\, storage and logistics of hydrocarbonsLNG: production\, transportation\, distribution and use\, investmentSpecialized vehicles for petroleum products transportationOil and gas processing\, petrochemistry\, gas chemistryDelivery and distribution of oil\, gas and petroleum productsEquipment and technology for filling stationsService\, maintenance equipment and technologyNon-destructive testing (NDT)ACS\, test equipmentIT for the oil and gas industryElectrical equipmentHealth safety at facilitiesEnvironmental conservation services\n									Full Thematic Sectors\n					Geological and geophysical research. Oil and gas exploration\, integrated assessment of oil-and-gas bearing areas and local objects\, estimation of reserves.Onshore and offshore oil and gas well construction. Horizontal wells drilling. Equipment and technologies.Oil and gas field development. Methods of bed stimulation for enhanced oil recovery. Equipment and technologies.Oil and gas gathering and treatment.Oil\, gas and oil products transportation and storage. Technique and technology of pipeline construction and maintenance. Tanks and tank farms.Vehicles for the transportation of oil\, petroleum products and liquefied gas.Pumps\, compressor equipment\, pneumatics\, driving gears\, oil and gas complex engines.Locking and regulating fittings.Pipes.Oil and gas processing and petrochemical industry. Equipment and technologies.LNG: production\, transportation\, distribution and use\, investment.Construction of facilities for oil and gas industry including offshore units. Construction machinery.Power and electrotechnical equipment for oil and gas industry. Cables. Welding equipment.Chemical reagents\, additives and materials for the oil and gas producing and oil refining industries\, for oil and oil products transport.Automated control systems and telemechanization of drilling\, production\, gathering\, transportation\, storage and processing of oil and gas. Instrumentation. Means of measurement assurance.Corrosion prevention. Equipment and pipelines corrosion prevention. Corrosion inhibitors. Units and insulating materials.Ecology: scientific research\, technologies\, equipment\, instrumentation. Modern systems of environmental monitoring. Processing waste utilizing and treatment.Labour protection\, safety systems and fire safety equipment.Labware and analytical instrumentation\, furniture. Mobile laboratories.Mobile production buildings and cabins.Oil\, gas\, and oil products delivery and sale. Filling stations.Economic research and analysis of oil and gas industry development. Industry management in new economic conditions\, issues of legal and financial regulation.Scientific research and designing. Project appraisal.Innovations made in RussiaDataware and software.Scientific and technical literature.IT for the oil and gas industry.
URL:https://redzynn.com/event/neftegaz-2025/
LOCATION:Expocentr\, Moscow\, Krasnopresnenskaya nab.\, 14\, 123100\, Russia.
ORGANIZER;CN="Redzynn Global":MAILTO:info@redzynn.com
END:VEVENT
END:VCALENDAR