BEGIN:VCALENDAR
VERSION:2.0
PRODID:-//Redzynn Global - ECPv6.3.3.1//NONSGML v1.0//EN
CALSCALE:GREGORIAN
METHOD:PUBLISH
X-WR-CALNAME:Redzynn Global
X-ORIGINAL-URL:https://redzynn.com
X-WR-CALDESC:Events for Redzynn Global
REFRESH-INTERVAL;VALUE=DURATION:PT1H
X-Robots-Tag:noindex
X-PUBLISHED-TTL:PT1H
BEGIN:VTIMEZONE
TZID:UTC
BEGIN:STANDARD
TZOFFSETFROM:+0000
TZOFFSETTO:+0000
TZNAME:UTC
DTSTART:20250101T000000
END:STANDARD
END:VTIMEZONE
BEGIN:VEVENT
DTSTART;VALUE=DATE:20250408
DTEND;VALUE=DATE:20250411
DTSTAMP:20260426T034836
CREATED:20250406T151644Z
LAST-MODIFIED:20250406T151644Z
UID:10000040-1744070400-1744329599@redzynn.com
SUMMARY:VODEXPO 2025
DESCRIPTION:VODEXPO 2025		\n				\n				\n				\n			9th Intersectoral Exhibition Display on Water Resources		\n				\n				\n				\n			April 08-10\, 2025		\n				\n				\n				\n			 Expocentre Fairgrounds\, Moscow\, Russia 		\n				\n					\n				\n				\n		\n		\n		\n				\n				\n					\n						\n				\n								\n			\n						\n				\n					\n						26					\n				\n									\n						Countries					 \n							\n		\n				\n				\n				\n		\n				\n				\n					\n						\n				\n								\n			\n						\n				\n					\n						6\,000					\n				\n									\n						Visitors					 \n							\n		\n				\n				\n				\n		\n				\n				\n					\n						\n				\n								\n			\n						\n				\n					\n						150 					\n				\n									\n						MEDIA outlets					 \n							\n		\n				\n				\n				\n		\n				\n				\n					\n						\n				\n								\n			\n						\n				\n					\n						230					\n				\n									\n						Speakers					 \n							\n		\n				\n				\n				\n				\n				\n		\n					\n				\n				\n					\n			\n									Sections\n							\n			\n									Sections\n					Ecology of water useEngineering\, designEnvironmental engineeringReagents and materials Water qualityWater in industryMunicipal water supplyWater ChemistryMembrane technologyWater degreasingAn environmentally friendly countryPrecipitation processing technologiesWaste of water treatment and water treatmentLocal treatment facilitiesWater supply and sanitation infrastructurePipelinesShut-off and control valvesWellsPumps and blowersDigitization and automationIntegrated automation and dispatchingFROM solutions for water supply and wastewater treatment tasksImport substitution in from the industrySoftware complexes and computational modelsTIM in construction and housingLaboratory controlClassic laboratory controlAutomatic systems for determining quality indicatorsControllers and flow metersSampling and sample preparation
URL:https://redzynn.com/event/vodexpo-2025/
LOCATION:Expocentr\, Moscow\, Krasnopresnenskaya nab.\, 14\, 123100\, Russia.
ORGANIZER;CN="Redzynn Global":MAILTO:info@redzynn.com
END:VEVENT
END:VCALENDAR